BEGIN:VCALENDAR
VERSION:2.0
PRODID:-//Twickenham and Thames Valley Beekeepers&#039; Association - ECPv6.15.20//NONSGML v1.0//EN
CALSCALE:GREGORIAN
METHOD:PUBLISH
X-WR-CALNAME:Twickenham and Thames Valley Beekeepers&#039; Association
X-ORIGINAL-URL:https://twickenhambeekeepers.apps-1and1.net
X-WR-CALDESC:Events for Twickenham and Thames Valley Beekeepers&#039; Association
REFRESH-INTERVAL;VALUE=DURATION:PT1H
X-Robots-Tag:noindex
X-PUBLISHED-TTL:PT1H
BEGIN:VTIMEZONE
TZID:Europe/London
BEGIN:DAYLIGHT
TZOFFSETFROM:+0000
TZOFFSETTO:+0100
TZNAME:BST
DTSTART:20240331T010000
END:DAYLIGHT
BEGIN:STANDARD
TZOFFSETFROM:+0100
TZOFFSETTO:+0000
TZNAME:GMT
DTSTART:20241027T010000
END:STANDARD
BEGIN:DAYLIGHT
TZOFFSETFROM:+0000
TZOFFSETTO:+0100
TZNAME:BST
DTSTART:20250330T010000
END:DAYLIGHT
BEGIN:STANDARD
TZOFFSETFROM:+0100
TZOFFSETTO:+0000
TZNAME:GMT
DTSTART:20251026T010000
END:STANDARD
BEGIN:DAYLIGHT
TZOFFSETFROM:+0000
TZOFFSETTO:+0100
TZNAME:BST
DTSTART:20260329T010000
END:DAYLIGHT
BEGIN:STANDARD
TZOFFSETFROM:+0100
TZOFFSETTO:+0000
TZNAME:GMT
DTSTART:20261025T010000
END:STANDARD
END:VTIMEZONE
BEGIN:VEVENT
DTSTART;TZID=Europe/London:20250520T190000
DTEND;TZID=Europe/London:20250520T210000
DTSTAMP:20260422T010510
CREATED:20250302T133757Z
LAST-MODIFIED:20250302T133757Z
UID:10000330-1747767600-1747774800@twickenhambeekeepers.apps-1and1.net
SUMMARY:BBKA online talk - Building a strong colony
DESCRIPTION:THis is a BBKA online event. Do NOT turn up at the apiary. \n“Building a strong colony” by Roger Patterson. \nMore details closer to the day.
URL:https://twickenhambeekeepers.apps-1and1.net/eventeventsnemopiano/bbka-online-talk-building-a-strong-colony/
LOCATION:online
CATEGORIES:External event
END:VEVENT
END:VCALENDAR